BEGIN:VCALENDAR
VERSION:2.0
PRODID:-//Star City Soap Box Derby - ECPv6.15.20//NONSGML v1.0//EN
CALSCALE:GREGORIAN
METHOD:PUBLISH
X-WR-CALNAME:Star City Soap Box Derby
X-ORIGINAL-URL:https://starcity.soapboxderby.org
X-WR-CALDESC:Events for Star City Soap Box Derby
REFRESH-INTERVAL;VALUE=DURATION:PT1H
X-Robots-Tag:noindex
X-PUBLISHED-TTL:PT1H
BEGIN:VTIMEZONE
TZID:UTC
BEGIN:STANDARD
TZOFFSETFROM:+0000
TZOFFSETTO:+0000
TZNAME:UTC
DTSTART:20230101T000000
END:STANDARD
END:VTIMEZONE
BEGIN:VEVENT
DTSTART;TZID=UTC:20241005T070000
DTEND;TZID=UTC:20241006T235900
DTSTAMP:20260422T220635
CREATED:20240813T182520Z
LAST-MODIFIED:20240916T163806Z
UID:1896-1728111600-1728259140@starcity.soapboxderby.org
SUMMARY:Star City  October Rally 10/5/24-10/6/24
DESCRIPTION:October Rally 10/5/2024-10/6/2024\n\nRace City: Star City (Roanoke)Race Date: 10/5/2024-10/6/2024Divisions: S\, SS\, MSRace Fee: If payment and registration are received by September 5th at 5pm the race fee is $100 for all four races. If payment/registration is received between September 5th @5pm and October 1st @5pm the cost is $120 for all four\, or $35 per race.\nContact Person:Brianna WaldronEmail: briannarke@gmail.comPhone: (540)759-0423Race registration and fees can be mailed to:\nStar City Soap Box Derby128 Dan lane\, Roanoke Va 24019\n\nLocation of track: 6824 Walrond Drive Roanoke\, Va 24019***PRE REGISTRATION is REQUIRED by October 1st by 5:00 pm ***\nThe drivers meeting will take place at 8:00 am. The race will start immediately following. PLEASE be here for check-in no later than 7 am\n\n\nWe will have movie night after our Saturday races conclude\, where we will be premiering 25 Hill. If you plan on attending and have extra or leftover buttons from Akron or previous years\, please bring them for our current racers and potentially new racers! Reach out to us for more information!
URL:https://starcity.soapboxderby.org/event/october-rally-10-5-2024-10-6-2024/
LOCATION:Walrond Park\, 6824 Walrond Dr\, Roanoke\, VA\, 24019\, United States
CATEGORIES:Rally Race
END:VEVENT
END:VCALENDAR